BEGIN:VCALENDAR
VERSION:2.0
PRODID:-//Tennesse Internet Broadcasting Company - ECPv5.3.2//NONSGML v1.0//EN
CALSCALE:GREGORIAN
METHOD:PUBLISH
X-WR-CALNAME:Tennesse Internet Broadcasting Company
X-ORIGINAL-URL:https://www.tnibc.com
X-WR-CALDESC:Events for Tennesse Internet Broadcasting Company
BEGIN:VTIMEZONE
TZID:America/Chicago
BEGIN:DAYLIGHT
TZOFFSETFROM:-0600
TZOFFSETTO:-0500
TZNAME:CDT
DTSTART:20170312T080000
END:DAYLIGHT
BEGIN:STANDARD
TZOFFSETFROM:-0500
TZOFFSETTO:-0600
TZNAME:CST
DTSTART:20171105T070000
END:STANDARD
END:VTIMEZONE
BEGIN:VEVENT
DTSTART;TZID=America/Chicago:20171104T143000
DTEND;TZID=America/Chicago:20171104T180000
DTSTAMP:20260420T082740
CREATED:20160929T163103Z
LAST-MODIFIED:20171009T031436Z
UID:758-1509805800-1509818400@www.tnibc.com
SUMMARY:3rd Annual Centennial Bank Jr. High All-Star Football Game
DESCRIPTION:What:Third Annual Centennial Bank Junior High All-Star Football Game \nWhen: Saturday\, November 4\, 2017 \nWhere: West Carroll Junior/Senior High School located in Atwood\, Tennessee \nTime: Hometown Grocery & Deli Pregame Show: 2:30pm\nKickoff: 3pm \nAdmission: $6.00 \nAthletes from nearly 35 different Middle and Junior High Schools will be participating in this MUST SEE event.
URL:https://www.tnibc.com/event/2nd-annual-jr-high-star-football-game/
LOCATION:West Carroll High School\, 1415 Hwy 77\, Atwood\, TN\, 38220\, United States
CATEGORIES:LISTEN LIVE!!!!!!!!!!
END:VEVENT
END:VCALENDAR