BEGIN:VCALENDAR
VERSION:2.0
PRODID:-//Tennesse Internet Broadcasting Company - ECPv5.3.2//NONSGML v1.0//EN
CALSCALE:GREGORIAN
METHOD:PUBLISH
X-WR-CALNAME:Tennesse Internet Broadcasting Company
X-ORIGINAL-URL:https://www.tnibc.com
X-WR-CALDESC:Events for Tennesse Internet Broadcasting Company
BEGIN:VTIMEZONE
TZID:America/Chicago
BEGIN:DAYLIGHT
TZOFFSETFROM:-0600
TZOFFSETTO:-0500
TZNAME:CDT
DTSTART:20150308T080000
END:DAYLIGHT
BEGIN:STANDARD
TZOFFSETFROM:-0500
TZOFFSETTO:-0600
TZNAME:CST
DTSTART:20151101T070000
END:STANDARD
END:VTIMEZONE
BEGIN:VEVENT
DTSTART;TZID=America/Chicago:20150814T173000
DTEND;TZID=America/Chicago:20150814T193000
DTSTAMP:20260420T191942
CREATED:20150806T143227Z
LAST-MODIFIED:20150806T144331Z
UID:351-1439573400-1439580600@www.tnibc.com
SUMMARY:August 14 - Jamboree AT Henry County
DESCRIPTION:The 2015 West Carroll High School Football Preseason will start with the Jamboree\nagainst Stewart County AT the Henry County High School. \nHometown Grocery & Deli pregame show starts at 5:30pm\nKickoff at 6pm \nLISTEN LIVE to all the play-by-play action on the War Eagle Radio Network at\nwww.WarEagleRadio.com or on the Mixlr app for your smartphone!! \nWest Carroll High School Football\n“Beyond the Reach of FM Radio”
URL:https://www.tnibc.com/event/august-14-jamboree-at-henry-county/
CATEGORIES:LISTEN LIVE!!!!!!!!!!
END:VEVENT
END:VCALENDAR