BEGIN:VCALENDAR
VERSION:2.0
PRODID:-//Tennesse Internet Broadcasting Company - ECPv5.3.2//NONSGML v1.0//EN
CALSCALE:GREGORIAN
METHOD:PUBLISH
X-WR-CALNAME:Tennesse Internet Broadcasting Company
X-ORIGINAL-URL:https://www.tnibc.com
X-WR-CALDESC:Events for Tennesse Internet Broadcasting Company
BEGIN:VTIMEZONE
TZID:America/Chicago
BEGIN:DAYLIGHT
TZOFFSETFROM:-0600
TZOFFSETTO:-0500
TZNAME:CDT
DTSTART:20190310T080000
END:DAYLIGHT
BEGIN:STANDARD
TZOFFSETFROM:-0500
TZOFFSETTO:-0600
TZNAME:CST
DTSTART:20191103T070000
END:STANDARD
END:VTIMEZONE
BEGIN:VEVENT
DTSTART;TZID=America/Chicago:20190415T170000
DTEND;TZID=America/Chicago:20190415T200000
DTSTAMP:20260420T223157
CREATED:20190404T180643Z
LAST-MODIFIED:20190415T004756Z
UID:1507-1555347600-1555358400@www.tnibc.com
SUMMARY:Baseball - Clarksburg AT West Carroll
DESCRIPTION:April 15:\nWar Eagles Baseball vs. Clarksburg Rockets\nDOUBLE HEADER\nSouthern Chiropractic Pregame Show: 4:45pm\nFirst Pitch: 5pm\nListen Live\n3 Ways to Listen\n1. www.WarEagleRadio.com\n2. MixLR Smartphone App\n3. Audio Now Call: 1-605-475-5867\n“Beyond the Reach of FM Radio”
URL:https://www.tnibc.com/event/baseball-clarksburg-at-west-carroll/
LOCATION:West Carroll High School\, 1415 Hwy 77\, Atwood\, TN\, 38220\, United States
CATEGORIES:LISTEN LIVE!!!!!!!!!!
END:VEVENT
END:VCALENDAR