BEGIN:VCALENDAR
VERSION:2.0
PRODID:-//Tennesse Internet Broadcasting Company - ECPv5.3.2//NONSGML v1.0//EN
CALSCALE:GREGORIAN
METHOD:PUBLISH
X-WR-CALNAME:Tennesse Internet Broadcasting Company
X-ORIGINAL-URL:https://www.tnibc.com
X-WR-CALDESC:Events for Tennesse Internet Broadcasting Company
BEGIN:VTIMEZONE
TZID:America/Chicago
BEGIN:DAYLIGHT
TZOFFSETFROM:-0600
TZOFFSETTO:-0500
TZNAME:CDT
DTSTART:20180311T080000
END:DAYLIGHT
BEGIN:STANDARD
TZOFFSETFROM:-0500
TZOFFSETTO:-0600
TZNAME:CST
DTSTART:20181104T070000
END:STANDARD
END:VTIMEZONE
BEGIN:VEVENT
DTSTART;TZID=America/Chicago:20180111T174000
DTEND;TZID=America/Chicago:20180111T210000
DTSTAMP:20260421T101955
CREATED:20161111T034545Z
LAST-MODIFIED:20180105T040556Z
UID:908-1515692400-1515704400@www.tnibc.com
SUMMARY:Big Sandy AT West Carroll POSTPONED
DESCRIPTION:The War Eagles & Lady War Eagles host the Big Sandy Red Devils & Lady Red Devils in the Eagles Nest!! \nThrive Pregame Show: 5:40pm\nTip-Off: 6pm \n3 WAYS TO LISTEN\n1. www.WarEagleRadio.com\n2. Mixlr Smartphone App (search War Eagle Radio Network)\n3. Audio Now Call 1-605-475-5867
URL:https://www.tnibc.com/event/big-sandy-west-carroll-2/
LOCATION:West Carroll High School\, 1415 Hwy 77\, Atwood\, TN\, 38220\, United States
CATEGORIES:LISTEN LIVE!!!!!!!!!!
END:VEVENT
END:VCALENDAR