BEGIN:VCALENDAR
VERSION:2.0
PRODID:-//Tennesse Internet Broadcasting Company - ECPv5.3.2//NONSGML v1.0//EN
CALSCALE:GREGORIAN
METHOD:PUBLISH
X-WR-CALNAME:Tennesse Internet Broadcasting Company
X-ORIGINAL-URL:https://www.tnibc.com
X-WR-CALDESC:Events for Tennesse Internet Broadcasting Company
BEGIN:VTIMEZONE
TZID:America/Chicago
BEGIN:DAYLIGHT
TZOFFSETFROM:-0600
TZOFFSETTO:-0500
TZNAME:CDT
DTSTART:20210314T080000
END:DAYLIGHT
BEGIN:STANDARD
TZOFFSETFROM:-0500
TZOFFSETTO:-0600
TZNAME:CST
DTSTART:20211107T070000
END:STANDARD
END:VTIMEZONE
BEGIN:VEVENT
DTSTART;TZID=America/Chicago:20210223T174000
DTEND;TZID=America/Chicago:20210223T193000
DTSTAMP:20260422T004930
CREATED:20210222T045521Z
LAST-MODIFIED:20210222T045521Z
UID:1923-1614102000-1614108600@www.tnibc.com
SUMMARY:Boys District 11-A Semifinals
DESCRIPTION:War Eagles Basketball\nLISTEN/WATCH LIVE!!!!\nSouthern Chiropractic Pregame Show: 6:40pm\nKickoff: 7pm\n4 Ways to Listen/Watch LIVE\n1. www.WarEagleRadio.com\n2. MixLR Smartphone App\n3. Audio Now Call: 1-605-475-5867\n4. YouTube: https://www.youtube.com/channel/UCQidT62U5fQlNgxl9F_ePow
URL:https://www.tnibc.com/event/boys-district-11-a-semifinals-2/
LOCATION:West Carroll High School\, 1415 Hwy 77\, Atwood\, TN\, 38220\, United States
CATEGORIES:LISTEN LIVE!!!!!!!!!!,WATCH LIVE!!!!
END:VEVENT
END:VCALENDAR