BEGIN:VCALENDAR
VERSION:2.0
PRODID:-//Tennesse Internet Broadcasting Company - ECPv5.3.2//NONSGML v1.0//EN
CALSCALE:GREGORIAN
METHOD:PUBLISH
X-WR-CALNAME:Tennesse Internet Broadcasting Company
X-ORIGINAL-URL:https://www.tnibc.com
X-WR-CALDESC:Events for Tennesse Internet Broadcasting Company
BEGIN:VTIMEZONE
TZID:America/Chicago
BEGIN:DAYLIGHT
TZOFFSETFROM:-0600
TZOFFSETTO:-0500
TZNAME:CDT
DTSTART:20210314T080000
END:DAYLIGHT
BEGIN:STANDARD
TZOFFSETFROM:-0500
TZOFFSETTO:-0600
TZNAME:CST
DTSTART:20211107T070000
END:STANDARD
END:VTIMEZONE
BEGIN:VEVENT
DTSTART;TZID=America/Chicago:20210211T174000
DTEND;TZID=America/Chicago:20210211T203000
DTSTAMP:20260421T211314
CREATED:20201113T172154Z
LAST-MODIFIED:20210130T144131Z
UID:1796-1613065200-1613075400@www.tnibc.com
SUMMARY:Bradford AT West Carroll
DESCRIPTION:War Eagles & Lady War Eagles Basketball\nLISTEN LIVE!!!!\nSouthern Chiropractic Pregame Show: 5:40pm\nKickoff: 6pm\n4 Ways to Listen/Watch LIVE\n1. www.WarEagleRadio.com\n2. MixLR Smartphone App\n3. Audio Now Call: 1-605-475-5867\n4. YouTube: https://www.youtube.com/channel/UCQidT62U5fQlNgxl9F_ePow
URL:https://www.tnibc.com/event/bradford-at-west-carroll-3/
LOCATION:West Carroll High School\, 1415 Hwy 77\, Atwood\, TN\, 38220\, United States
CATEGORIES:LISTEN LIVE!!!!!!!!!!
END:VEVENT
END:VCALENDAR