BEGIN:VCALENDAR
VERSION:2.0
PRODID:-//Tennesse Internet Broadcasting Company - ECPv5.3.2//NONSGML v1.0//EN
CALSCALE:GREGORIAN
METHOD:PUBLISH
X-WR-CALNAME:Tennesse Internet Broadcasting Company
X-ORIGINAL-URL:https://www.tnibc.com
X-WR-CALDESC:Events for Tennesse Internet Broadcasting Company
BEGIN:VTIMEZONE
TZID:America/Chicago
BEGIN:DAYLIGHT
TZOFFSETFROM:-0600
TZOFFSETTO:-0500
TZNAME:CDT
DTSTART:20220313T080000
END:DAYLIGHT
BEGIN:STANDARD
TZOFFSETFROM:-0500
TZOFFSETTO:-0600
TZNAME:CST
DTSTART:20221106T070000
END:STANDARD
END:VTIMEZONE
BEGIN:VEVENT
DTSTART;TZID=America/Chicago:20220307T183000
DTEND;TZID=America/Chicago:20220307T203000
DTSTAMP:20260423T041036
CREATED:20220304T033408Z
LAST-MODIFIED:20220305T153220Z
UID:2313-1646677800-1646685000@www.tnibc.com
SUMMARY:Region 5/6-A Boys State Qualifier
DESCRIPTION:March 7\nRegion 5/6-A Boys State Qualifier\nWest Carroll AT Santa\nSouthern Chiropractic Pregame: 6:30pm\nTipoff: 7pm\n4 Ways to Listen LIVE\n1. www.WarEagleRadio.com\n2. MixLR Smartphone App\n3. Audio Now Call: 1-605-475-5867\n4. www.YouTube.com/WarEagleRadioNetwork\n(YouTube Audio Only)
URL:https://www.tnibc.com/event/citizens-bank-trust-company-state-qualifier/
LOCATION:Santa Fe High School\, 2629 Santa Fe Pike\, Santa Fe\, TN\, 38482\, United States
CATEGORIES:LISTEN LIVE!!!!!!!!!!
END:VEVENT
END:VCALENDAR