BEGIN:VCALENDAR
VERSION:2.0
PRODID:-//Tennesse Internet Broadcasting Company - ECPv5.3.2//NONSGML v1.0//EN
CALSCALE:GREGORIAN
METHOD:PUBLISH
X-WR-CALNAME:Tennesse Internet Broadcasting Company
X-ORIGINAL-URL:https://www.tnibc.com
X-WR-CALDESC:Events for Tennesse Internet Broadcasting Company
BEGIN:VTIMEZONE
TZID:America/Chicago
BEGIN:DAYLIGHT
TZOFFSETFROM:-0600
TZOFFSETTO:-0500
TZNAME:CDT
DTSTART:20180311T080000
END:DAYLIGHT
BEGIN:STANDARD
TZOFFSETFROM:-0500
TZOFFSETTO:-0600
TZNAME:CST
DTSTART:20181104T070000
END:STANDARD
END:VTIMEZONE
BEGIN:VEVENT
DTSTART;TZID=America/Chicago:20180210T145000
DTEND;TZID=America/Chicago:20180210T163000
DTSTAMP:20260421T041405
CREATED:20180208T030525Z
LAST-MODIFIED:20180208T030525Z
UID:1300-1518274200-1518280200@www.tnibc.com
SUMMARY:Clarksburg vs. Bruceton Boys
DESCRIPTION:District 11-A Tournament at Bethel University in McKenzie\, TN
URL:https://www.tnibc.com/event/clarksburg-vs-bruceton-boys/
LOCATION:Bethel University\, Wildcat Lane\, McKenzie\, TN\, 38201\, United States
END:VEVENT
END:VCALENDAR