BEGIN:VCALENDAR
VERSION:2.0
PRODID:-//Tennesse Internet Broadcasting Company - ECPv5.3.2//NONSGML v1.0//EN
CALSCALE:GREGORIAN
METHOD:PUBLISH
X-WR-CALNAME:Tennesse Internet Broadcasting Company
X-ORIGINAL-URL:https://www.tnibc.com
X-WR-CALDESC:Events for Tennesse Internet Broadcasting Company
BEGIN:VTIMEZONE
TZID:America/Chicago
BEGIN:DAYLIGHT
TZOFFSETFROM:-0600
TZOFFSETTO:-0500
TZNAME:CDT
DTSTART:20250309T080000
END:DAYLIGHT
BEGIN:STANDARD
TZOFFSETFROM:-0500
TZOFFSETTO:-0600
TZNAME:CST
DTSTART:20251102T070000
END:STANDARD
END:VTIMEZONE
BEGIN:VEVENT
DTSTART;TZID=America/Chicago:20251125T173000
DTEND;TZID=America/Chicago:20251125T213000
DTSTAMP:20260421T122351
CREATED:20251120T180112Z
LAST-MODIFIED:20251120T180112Z
UID:3417-1764091800-1764106200@www.tnibc.com
SUMMARY:Clarksburg @ WCHS Basketball
DESCRIPTION:Smith & Smith Optometry Pregame: 5:40pm\nGirls Tipoff: 6pm / Boys Tipoff: 7:30pm\nListen/Watch LIVE\nwww.WarEagleRadio.com\nwww.YouTube.com/WarEagleRadioNetwork 
URL:https://www.tnibc.com/event/clarksburg-wchs-basketball-2/
LOCATION:West Carroll High School\, 1415 Hwy 77\, Atwood\, TN\, 38220\, United States
CATEGORIES:WATCH LIVE!!!!
END:VEVENT
END:VCALENDAR