BEGIN:VCALENDAR
VERSION:2.0
PRODID:-//Tennesse Internet Broadcasting Company - ECPv5.3.2//NONSGML v1.0//EN
CALSCALE:GREGORIAN
METHOD:PUBLISH
X-WR-CALNAME:Tennesse Internet Broadcasting Company
X-ORIGINAL-URL:https://www.tnibc.com
X-WR-CALDESC:Events for Tennesse Internet Broadcasting Company
BEGIN:VTIMEZONE
TZID:America/Chicago
BEGIN:DAYLIGHT
TZOFFSETFROM:-0600
TZOFFSETTO:-0500
TZNAME:CDT
DTSTART:20220313T080000
END:DAYLIGHT
BEGIN:STANDARD
TZOFFSETFROM:-0500
TZOFFSETTO:-0600
TZNAME:CST
DTSTART:20221106T070000
END:STANDARD
END:VTIMEZONE
BEGIN:VEVENT
DTSTART;TZID=America/Chicago:20220214T174000
DTEND;TZID=America/Chicago:20220214T193000
DTSTAMP:20260421T153207
CREATED:20220214T022409Z
LAST-MODIFIED:20220214T022409Z
UID:2243-1644860400-1644867000@www.tnibc.com
SUMMARY:District 12-A Girls Semifinals
DESCRIPTION:February 14\nDistrict 12-A Semifinals AT Perry Co.\nWest Carroll vs. Frank Hughes / Girls\nSouthern Chiropractic Pregame: 5:40pm\nTipoff: 6pm\n4 Ways to Listen LIVE\n1. www.WarEagleRadio.com\n2. MixLR Smartphone App\n3. Audio Now Call: 1-605-475-5867\n4. www.YouTube.com/WarEagleRadioNetwork 
URL:https://www.tnibc.com/event/district-12-a-girls-semifinals/
LOCATION:Perry County High School\, 1056 Squirrel Hollow Dr\,\, Linden\, TN\, 37096\, United States
CATEGORIES:LISTEN LIVE!!!!!!!!!!
END:VEVENT
END:VCALENDAR