BEGIN:VCALENDAR
VERSION:2.0
PRODID:-//Tennesse Internet Broadcasting Company - ECPv5.3.2//NONSGML v1.0//EN
CALSCALE:GREGORIAN
METHOD:PUBLISH
X-WR-CALNAME:Tennesse Internet Broadcasting Company
X-ORIGINAL-URL:https://www.tnibc.com
X-WR-CALDESC:Events for Tennesse Internet Broadcasting Company
BEGIN:VTIMEZONE
TZID:America/Chicago
BEGIN:DAYLIGHT
TZOFFSETFROM:-0600
TZOFFSETTO:-0500
TZNAME:CDT
DTSTART:20250309T080000
END:DAYLIGHT
BEGIN:STANDARD
TZOFFSETFROM:-0500
TZOFFSETTO:-0600
TZNAME:CST
DTSTART:20251102T070000
END:STANDARD
END:VTIMEZONE
BEGIN:VEVENT
DTSTART;TZID=America/Chicago:20250218T153000
DTEND;TZID=America/Chicago:20250218T173000
DTSTAMP:20260421T040958
CREATED:20250214T040227Z
LAST-MODIFIED:20250218T041948Z
UID:3345-1739892600-1739899800@www.tnibc.com
SUMMARY:District 13-A Boys Quarterfinal
DESCRIPTION:West Carroll AT Halls\nSmith & Smith Optometry Pregame: 3:10pm\nBoys Tipoff: 3:30pm\n2 Ways to Listen/Watch LIVE\n1. Audio Now Call: 1-605-475-5867\n2. www.YouTube.com/WarEagleRadioNetwork 
URL:https://www.tnibc.com/event/district-13-a-boys-quarterfinal/
LOCATION:Halls High School\, 800 W. Tigrett St.\, Halls\, TN\, 38040\, United States
CATEGORIES:LISTEN LIVE!!!!!!!!!!,WATCH LIVE!!!!
END:VEVENT
END:VCALENDAR