BEGIN:VCALENDAR
VERSION:2.0
PRODID:-//Tennesse Internet Broadcasting Company - ECPv5.3.2//NONSGML v1.0//EN
CALSCALE:GREGORIAN
METHOD:PUBLISH
X-WR-CALNAME:Tennesse Internet Broadcasting Company
X-ORIGINAL-URL:https://www.tnibc.com
X-WR-CALDESC:Events for Tennesse Internet Broadcasting Company
BEGIN:VTIMEZONE
TZID:America/Chicago
BEGIN:DAYLIGHT
TZOFFSETFROM:-0600
TZOFFSETTO:-0500
TZNAME:CDT
DTSTART:20160313T080000
END:DAYLIGHT
BEGIN:STANDARD
TZOFFSETFROM:-0500
TZOFFSETTO:-0600
TZNAME:CST
DTSTART:20161106T070000
END:STANDARD
END:VTIMEZONE
BEGIN:VEVENT
DTSTART;TZID=America/Chicago:20160218T180000
DTEND;TZID=America/Chicago:20160218T200000
DTSTAMP:20260421T084443
CREATED:20160216T034745Z
LAST-MODIFIED:20160216T035808Z
UID:619-1455818400-1455825600@www.tnibc.com
SUMMARY:GIRLS District 13-A Semifinals
DESCRIPTION:GIRLS District 13-A Semifinals\n\n\nON THE\n\n\nWAR EAGLE RADIO NETWORK!\n\n\n \n\n\nLISTEN LIVE!\n\n\nBurgers & More pregame 6pm\n\n\nTip-off at 6:30pm\n\n\n \n\n\nThe Lady War Eagles head to Bethel University’s Crisp Arena for the Semifinals tonight where they will take on the Dresden Lady Lions!\n\n\n \n\n\n3 Ways to listen\n\n\n1. www.WarEagleRadio.com\n\n\n2. Mixlr Smartphone App\n\n\n3. Audio Now call 1-605-475-5867
URL:https://www.tnibc.com/event/district-13-a-semifinals/
LOCATION:Bethel University\, Wildcat Lane\, McKenzie\, TN\, 38201\, United States
CATEGORIES:LISTEN LIVE!!!!!!!!!!
END:VEVENT
END:VCALENDAR