BEGIN:VCALENDAR
VERSION:2.0
PRODID:-//Tennesse Internet Broadcasting Company - ECPv5.3.2//NONSGML v1.0//EN
CALSCALE:GREGORIAN
METHOD:PUBLISH
X-WR-CALNAME:Tennesse Internet Broadcasting Company
X-ORIGINAL-URL:https://www.tnibc.com
X-WR-CALDESC:Events for Tennesse Internet Broadcasting Company
BEGIN:VTIMEZONE
TZID:America/Chicago
BEGIN:DAYLIGHT
TZOFFSETFROM:-0600
TZOFFSETTO:-0500
TZNAME:CDT
DTSTART:20170312T080000
END:DAYLIGHT
BEGIN:STANDARD
TZOFFSETFROM:-0500
TZOFFSETTO:-0600
TZNAME:CST
DTSTART:20171105T070000
END:STANDARD
END:VTIMEZONE
BEGIN:VEVENT
DTSTART;TZID=America/Chicago:20170218T174500
DTEND;TZID=America/Chicago:20170218T210000
DTSTAMP:20260420T161756
CREATED:20170213T025508Z
LAST-MODIFIED:20170217T034254Z
UID:1008-1487439900-1487451600@www.tnibc.com
SUMMARY:District 13-A Championship - GIRLS
DESCRIPTION:LISTEN LIVE!!!\nFeb. 18 = Girls Championship & Consolation\nSmoke & Sizzle Pregame Show: 5:45pm \nConsolation: (3)Gleason Lady Bulldogs &\n(5) Clarksburg Lady Rockets 6pm \nChampionship: (1)Huntingdon Fillies &\n(2)Dresden Lady Lions 7:30pm \nOnce again this year the District 13-A Basketball Tournament will be held at Bethel University’s Crisp Arena in McKenzie\, TN\, and EVERY GAME can be heard LIVE on the Tennessee Internet Broadcasting Company. PLUS every game will be uploaded for REPLAY anytime you wish to listen again!! \nDistrict 13-A Basketball on TNIBC\n “Broadcasting Beyond the Reach of FM Radio” \nSmoke & Sizzle Pregame Show: 5:45pm\nTip-Off: 6pm \n3 WAYS TO LISTEN\n 1. www.TNIBC.com\n 2. Mixlr Smartphone App (search TNIBC)\n 3. Audio Now Call 1-605-475-5867
URL:https://www.tnibc.com/event/district-13-championship-girls/
LOCATION:Bethel University\, Wildcat Lane\, McKenzie\, TN\, 38201\, United States
CATEGORIES:LISTEN LIVE!!!!!!!!!!
END:VEVENT
END:VCALENDAR