BEGIN:VCALENDAR
VERSION:2.0
PRODID:-//Tennesse Internet Broadcasting Company - ECPv5.3.2//NONSGML v1.0//EN
CALSCALE:GREGORIAN
METHOD:PUBLISH
X-WR-CALNAME:Tennesse Internet Broadcasting Company
X-ORIGINAL-URL:https://www.tnibc.com
X-WR-CALDESC:Events for Tennesse Internet Broadcasting Company
BEGIN:VTIMEZONE
TZID:America/Chicago
BEGIN:DAYLIGHT
TZOFFSETFROM:-0600
TZOFFSETTO:-0500
TZNAME:CDT
DTSTART:20150308T080000
END:DAYLIGHT
BEGIN:STANDARD
TZOFFSETFROM:-0500
TZOFFSETTO:-0600
TZNAME:CST
DTSTART:20151101T070000
END:STANDARD
END:VTIMEZONE
BEGIN:VEVENT
DTSTART;TZID=America/Chicago:20150214T191000
DTEND;TZID=America/Chicago:20150214T210000
DTSTAMP:20260423T060306
CREATED:20150205T190016Z
LAST-MODIFIED:20150213T025916Z
UID:197-1423941000-1423947600@www.tnibc.com
SUMMARY:District 13-A Girls Championship AT Bethel University
DESCRIPTION:Lady War Eagles win the ssemifinals & will play in this District 13-A Championship game against Dresden Lady Lions. \nKrazy Wings pregame show starts at 7:10pm\nTipoff at 7:30pm
URL:https://www.tnibc.com/event/district-13-championship/
LOCATION:Bethel University\, Wildcat Lane\, McKenzie\, TN\, 38201\, United States
END:VEVENT
END:VCALENDAR