BEGIN:VCALENDAR
VERSION:2.0
PRODID:-//Tennesse Internet Broadcasting Company - ECPv5.3.2//NONSGML v1.0//EN
CALSCALE:GREGORIAN
METHOD:PUBLISH
X-WR-CALNAME:Tennesse Internet Broadcasting Company
X-ORIGINAL-URL:https://www.tnibc.com
X-WR-CALDESC:Events for Tennesse Internet Broadcasting Company
BEGIN:VTIMEZONE
TZID:America/Chicago
BEGIN:DAYLIGHT
TZOFFSETFROM:-0600
TZOFFSETTO:-0500
TZNAME:CDT
DTSTART:20150308T080000
END:DAYLIGHT
BEGIN:STANDARD
TZOFFSETFROM:-0500
TZOFFSETTO:-0600
TZNAME:CST
DTSTART:20151101T070000
END:STANDARD
END:VTIMEZONE
BEGIN:VEVENT
DTSTART;TZID=America/Chicago:20150212T174000
DTEND;TZID=America/Chicago:20150212T193000
DTSTAMP:20260423T074543
CREATED:20150205T042721Z
LAST-MODIFIED:20150211T130446Z
UID:187-1423762800-1423769400@www.tnibc.com
SUMMARY:District 13-A Girls Semifinals AT Bethel University
DESCRIPTION:After a win over Big Sandy in the quarterfinals\, the Lady War Eagles will play Huntingdon in the semifinals. \nKrazy Wings pregame show starts at 5:40pm\nTipoff at 6pm
URL:https://www.tnibc.com/event/district-13-girls-semifinals-bethel-university/
LOCATION:Bethel University\, Wildcat Lane\, McKenzie\, TN\, 38201\, United States
END:VEVENT
END:VCALENDAR