BEGIN:VCALENDAR
VERSION:2.0
PRODID:-//Tennesse Internet Broadcasting Company - ECPv5.3.2//NONSGML v1.0//EN
CALSCALE:GREGORIAN
METHOD:PUBLISH
X-WR-CALNAME:Tennesse Internet Broadcasting Company
X-ORIGINAL-URL:https://www.tnibc.com
X-WR-CALDESC:Events for Tennesse Internet Broadcasting Company
BEGIN:VTIMEZONE
TZID:America/Chicago
BEGIN:DAYLIGHT
TZOFFSETFROM:-0600
TZOFFSETTO:-0500
TZNAME:CDT
DTSTART:20170312T080000
END:DAYLIGHT
BEGIN:STANDARD
TZOFFSETFROM:-0500
TZOFFSETTO:-0600
TZNAME:CST
DTSTART:20171105T070000
END:STANDARD
END:VTIMEZONE
BEGIN:VEVENT
DTSTART;TZID=America/Chicago:20170213T181500
DTEND;TZID=America/Chicago:20170213T203000
DTSTAMP:20260420T224731
CREATED:20170213T023431Z
LAST-MODIFIED:20170213T023431Z
UID:1002-1487009700-1487017800@www.tnibc.com
SUMMARY:District 13-A Quarterfinals - GIRLS
DESCRIPTION:Your West Carroll Lady War Eagles finished 6th in the regular season standings\, and will travel to Gleason to take on the #3 Lady Bulldogs for Round 1 of District Tournament action!! \nSmoke & Sizzle Pregame Show: 6:15pm\nTip-Off: 6:30pm \n3 WAYS TO LISTEN\n1. www.TNIBC.com\n2. Mixlr Smartphone App (search TNIBC)\n3. Audio Now Call 1-605-475-5867
URL:https://www.tnibc.com/event/district-13-quarterfinals-girls/
LOCATION:Gleason High School\, 92-99 State Championship Rd\, Gleason\, TN\, 38229\, United States
CATEGORIES:LISTEN LIVE!!!!!!!!!!
END:VEVENT
END:VCALENDAR