BEGIN:VCALENDAR
VERSION:2.0
PRODID:-//Tennesse Internet Broadcasting Company - ECPv5.3.2//NONSGML v1.0//EN
CALSCALE:GREGORIAN
METHOD:PUBLISH
X-WR-CALNAME:Tennesse Internet Broadcasting Company
X-ORIGINAL-URL:https://www.tnibc.com
X-WR-CALDESC:Events for Tennesse Internet Broadcasting Company
BEGIN:VTIMEZONE
TZID:America/Chicago
BEGIN:DAYLIGHT
TZOFFSETFROM:-0600
TZOFFSETTO:-0500
TZNAME:CDT
DTSTART:20150308T080000
END:DAYLIGHT
BEGIN:STANDARD
TZOFFSETFROM:-0500
TZOFFSETTO:-0600
TZNAME:CST
DTSTART:20151101T070000
END:STANDARD
END:VTIMEZONE
BEGIN:VEVENT
DTSTART;TZID=America/Chicago:20150607T110000
DTEND;TZID=America/Chicago:20150607T120000
DTSTAMP:20260421T191430
CREATED:20150524T193524Z
LAST-MODIFIED:20150524T193524Z
UID:315-1433674800-1433678400@www.tnibc.com
SUMMARY:First Baptist Church Trezevant\, TN - AM Worship Service
DESCRIPTION:First Baptist Church in Trezevant\, TN begins the Sunday morning worship service at 10:55a.m. \nLISTEN LIVE every Sunday right here on the Tennessee Internet Broadcasting Company by going to the LISTEN LIVE page and clicking on the First Baptist Church logo.
URL:https://www.tnibc.com/event/first-baptist-church-trezevant-tn-am-worship-service-11/
LOCATION:First Baptist Church – Trezevant\, 60 Church Street\, Trezevant\, TN\, 38258\, United States
CATEGORIES:LISTEN LIVE!!!!!!!!!!
END:VEVENT
END:VCALENDAR