BEGIN:VCALENDAR
VERSION:2.0
PRODID:-//Tennesse Internet Broadcasting Company - ECPv5.3.2//NONSGML v1.0//EN
CALSCALE:GREGORIAN
METHOD:PUBLISH
X-WR-CALNAME:Tennesse Internet Broadcasting Company
X-ORIGINAL-URL:https://www.tnibc.com
X-WR-CALDESC:Events for Tennesse Internet Broadcasting Company
BEGIN:VTIMEZONE
TZID:America/Chicago
BEGIN:DAYLIGHT
TZOFFSETFROM:-0600
TZOFFSETTO:-0500
TZNAME:CDT
DTSTART:20150308T080000
END:DAYLIGHT
BEGIN:STANDARD
TZOFFSETFROM:-0500
TZOFFSETTO:-0600
TZNAME:CST
DTSTART:20151101T070000
END:STANDARD
END:VTIMEZONE
BEGIN:VEVENT
DTSTART;TZID=America/Chicago:20150614T180000
DTEND;TZID=America/Chicago:20150614T190000
DTSTAMP:20260421T140853
CREATED:20150524T195136Z
LAST-MODIFIED:20150614T152914Z
UID:320-1434304800-1434308400@www.tnibc.com
SUMMARY:First Baptist Church Trezevant\, TN - NO PM Worship Service BROADCAST
DESCRIPTION:NOTE: THIS SERVICE BROADCAST WILL BE CANCELLED DUE TO BUSINESS MEETING\, AND BIBLE TRIVIA FUN.
URL:https://www.tnibc.com/event/first-baptist-church-trezevant-tn-pm-worship-service-short/
LOCATION:First Baptist Church – Trezevant\, 60 Church Street\, Trezevant\, TN\, 38258\, United States
CATEGORIES:LISTEN LIVE!!!!!!!!!!
END:VEVENT
END:VCALENDAR