BEGIN:VCALENDAR
VERSION:2.0
PRODID:-//Tennesse Internet Broadcasting Company - ECPv5.3.2//NONSGML v1.0//EN
CALSCALE:GREGORIAN
METHOD:PUBLISH
X-WR-CALNAME:Tennesse Internet Broadcasting Company
X-ORIGINAL-URL:https://www.tnibc.com
X-WR-CALDESC:Events for Tennesse Internet Broadcasting Company
BEGIN:VTIMEZONE
TZID:America/Chicago
BEGIN:DAYLIGHT
TZOFFSETFROM:-0600
TZOFFSETTO:-0500
TZNAME:CDT
DTSTART:20170312T080000
END:DAYLIGHT
BEGIN:STANDARD
TZOFFSETFROM:-0500
TZOFFSETTO:-0600
TZNAME:CST
DTSTART:20171105T070000
END:STANDARD
END:VTIMEZONE
BEGIN:VEVENT
DTSTART;TZID=America/Chicago:20170811T173000
DTEND;TZID=America/Chicago:20170811T193000
DTSTAMP:20260420T112332
CREATED:20170809T154026Z
LAST-MODIFIED:20170810T003522Z
UID:714-1502472600-1502479800@www.tnibc.com
SUMMARY:Football Jamboree
DESCRIPTION:2017 Football is here!! \nWest Carroll War Eagles take on the Stewart Co. Rebels in the 2017 Henry Co. Jamboree!! \n  \nHometown Grocery & Deli Pregame Show: 5:30pm\nKickoff: 6pm \n  \n\n3 ways to listen LIVE\n1. www.WarEagleRadio.com\n2. Mixlr Smartphone App (search War Eagle Radio Network)\n3. Audio Now call 1-605-475-5868 \nAs always every game can be replayed anytime with the broadcast replay page at www.WarEagleRadio.com & www.TNIBC.com
URL:https://www.tnibc.com/event/football-jamboree/
LOCATION:Henry County High School\, 315 S. Wilson St.\, Paris\, TN\, 38242\, United States
END:VEVENT
END:VCALENDAR