BEGIN:VCALENDAR
VERSION:2.0
PRODID:-//Tennesse Internet Broadcasting Company - ECPv5.3.2//NONSGML v1.0//EN
CALSCALE:GREGORIAN
METHOD:PUBLISH
X-WR-CALNAME:Tennesse Internet Broadcasting Company
X-ORIGINAL-URL:https://www.tnibc.com
X-WR-CALDESC:Events for Tennesse Internet Broadcasting Company
BEGIN:VTIMEZONE
TZID:America/Chicago
BEGIN:DAYLIGHT
TZOFFSETFROM:-0600
TZOFFSETTO:-0500
TZNAME:CDT
DTSTART:20160313T080000
END:DAYLIGHT
BEGIN:STANDARD
TZOFFSETFROM:-0500
TZOFFSETTO:-0600
TZNAME:CST
DTSTART:20161106T070000
END:STANDARD
END:VTIMEZONE
BEGIN:VEVENT
DTSTART;TZID=America/Chicago:20161210T144500
DTEND;TZID=America/Chicago:20161210T180000
DTSTAMP:20260421T040325
CREATED:20161111T032823Z
LAST-MODIFIED:20161111T032823Z
UID:902-1481381100-1481392800@www.tnibc.com
SUMMARY:Greenfield AT West Carroll
DESCRIPTION:The War Eagles & Lady War Eagles are back in the Eagles Nest for 4 straight home games\, starting with the task of taking on the Greenfield Yellow Jackets & Lady Jackets for their 2nd meeting of 2016\, with a rare Sat. afternoon game time!! \nSugar Island Pregame Show: 2:45pm\nSmoke & Sizzle Tip-Off: 3pm \n3 WAYS TO LISTEN\n1. www.WarEagleRadio.com\n2. Mixlr Smartphone App (search War Eagle Radio Network)\n3. Audio Now Call 1-605-475-5867
URL:https://www.tnibc.com/event/greenfield-west-carroll/
LOCATION:West Carroll High School\, 1415 Hwy 77\, Atwood\, TN\, 38220\, United States
CATEGORIES:LISTEN LIVE!!!!!!!!!!
END:VEVENT
END:VCALENDAR