BEGIN:VCALENDAR
VERSION:2.0
PRODID:-//Tennesse Internet Broadcasting Company - ECPv5.3.2//NONSGML v1.0//EN
CALSCALE:GREGORIAN
METHOD:PUBLISH
X-WR-CALNAME:Tennesse Internet Broadcasting Company
X-ORIGINAL-URL:https://www.tnibc.com
X-WR-CALDESC:Events for Tennesse Internet Broadcasting Company
BEGIN:VTIMEZONE
TZID:America/Chicago
BEGIN:DAYLIGHT
TZOFFSETFROM:-0600
TZOFFSETTO:-0500
TZNAME:CDT
DTSTART:20170312T080000
END:DAYLIGHT
BEGIN:STANDARD
TZOFFSETFROM:-0500
TZOFFSETTO:-0600
TZNAME:CST
DTSTART:20171105T070000
END:STANDARD
END:VTIMEZONE
BEGIN:VEVENT
DTSTART;TZID=America/Chicago:20171118T182500
DTEND;TZID=America/Chicago:20171118T203000
DTSTAMP:20260421T081825
CREATED:20161111T030020Z
LAST-MODIFIED:20171105T231119Z
UID:894-1511029500-1511037000@www.tnibc.com
SUMMARY:Hall of Fame AT West Carroll (evening)
DESCRIPTION:The War Eagles & Lady War Eagles will cap off the Hall of Fame day as they host the Collinwood Trojans & Lady Trojans! \nThrive Pregame Show: 6:25pm\nTip-Off: 6:45pm \n3 WAYS TO LISTEN\n1. www.WarEagleRadio.com\n2. Mixlr Smartphone App (search War Eagle Radio Network)\n3. Audio Now Call 1-605-475-5867 \n 
URL:https://www.tnibc.com/event/hall-fame-west-carroll-evening/
LOCATION:West Carroll High School\, 1415 Hwy 77\, Atwood\, TN\, 38220\, United States
CATEGORIES:LISTEN LIVE!!!!!!!!!!
END:VEVENT
END:VCALENDAR