BEGIN:VCALENDAR
VERSION:2.0
PRODID:-//Tennesse Internet Broadcasting Company - ECPv5.3.2//NONSGML v1.0//EN
CALSCALE:GREGORIAN
METHOD:PUBLISH
X-WR-CALNAME:Tennesse Internet Broadcasting Company
X-ORIGINAL-URL:https://www.tnibc.com
X-WR-CALDESC:Events for Tennesse Internet Broadcasting Company
BEGIN:VTIMEZONE
TZID:America/Chicago
BEGIN:DAYLIGHT
TZOFFSETFROM:-0600
TZOFFSETTO:-0500
TZNAME:CDT
DTSTART:20160313T080000
END:DAYLIGHT
BEGIN:STANDARD
TZOFFSETFROM:-0500
TZOFFSETTO:-0600
TZNAME:CST
DTSTART:20161106T070000
END:STANDARD
END:VTIMEZONE
BEGIN:VEVENT
DTSTART;TZID=America/Chicago:20161229T144500
DTEND;TZID=America/Chicago:20161229T180000
DTSTAMP:20260421T001809
CREATED:20161228T040236Z
LAST-MODIFIED:20161228T040236Z
UID:939-1483022700-1483034400@www.tnibc.com
SUMMARY:Huntingdon Christmas Classic vs. Crockett Co.
DESCRIPTION:The War Eagles & Lady War Eagles will take on the Crockett County Cavaliers & Lady Cavaliers in night #2 of the Huntingdon Christmas Classic. \nSPECIAL TIME!! \nSugar Island Pregame Show: 2:45pm\nSmoke & Sizzle Tipoff: 3pm \n\n3 ways to listen LIVE\n1. www.WarEagleRadio.com\n2. Mixlr Smartphone App (search War Eagle Radio Network)\n3. Audio Now call 1-605-475-5868 \nAs always every game can be replayed anytime with the broadcast replay page at www.WarEagleRadio.com & www.TNIBC.com
URL:https://www.tnibc.com/event/huntingdon-christmas-classic-vs-crockett-co/
LOCATION:Huntingdon High School\, 475 Fairgrounds Rd\, Huntingdon\, TN\, 38344\, United States
CATEGORIES:LISTEN LIVE!!!!!!!!!!
END:VEVENT
END:VCALENDAR