BEGIN:VCALENDAR
VERSION:2.0
PRODID:-//Tennesse Internet Broadcasting Company - ECPv5.3.2//NONSGML v1.0//EN
CALSCALE:GREGORIAN
METHOD:PUBLISH
X-WR-CALNAME:Tennesse Internet Broadcasting Company
X-ORIGINAL-URL:https://www.tnibc.com
X-WR-CALDESC:Events for Tennesse Internet Broadcasting Company
BEGIN:VTIMEZONE
TZID:America/Chicago
BEGIN:DAYLIGHT
TZOFFSETFROM:-0600
TZOFFSETTO:-0500
TZNAME:CDT
DTSTART:20170312T080000
END:DAYLIGHT
BEGIN:STANDARD
TZOFFSETFROM:-0500
TZOFFSETTO:-0600
TZNAME:CST
DTSTART:20171105T070000
END:STANDARD
END:VTIMEZONE
BEGIN:VEVENT
DTSTART;TZID=America/Chicago:20170825T183000
DTEND;TZID=America/Chicago:20170825T213000
DTSTAMP:20260420T080630
CREATED:20160810T155455Z
LAST-MODIFIED:20170810T004710Z
UID:718-1503685800-1503696600@www.tnibc.com
SUMMARY:McKenzie AT West Carroll
DESCRIPTION:Cross County Rivals\, the McKenzie Rebels\, visit the Eagles Nest to take on the West Carroll War Eagles for regular season Football Game #2!! \n  \nLISTEN LIVE!!!\nHometown Grocery & Deli Pregame Show: 6:30pm\nKickoff: 7pm \n\n3 ways to listen LIVE\n1. www.WarEagleRadio.com\n2. Mixlr Smartphone App (search War Eagle Radio Network)\n3. Audio Now call 1-605-475-5868 \nAs always every game can be replayed anytime with the broadcast replay page at www.WarEagleRadio.com & www.TNIBC.com
URL:https://www.tnibc.com/event/mckenzie-west-carroll-2/
LOCATION:West Carroll High School\, 1415 Hwy 77\, Atwood\, TN\, 38220\, United States
CATEGORIES:LISTEN LIVE!!!!!!!!!!
END:VEVENT
END:VCALENDAR