BEGIN:VCALENDAR
VERSION:2.0
PRODID:-//Tennesse Internet Broadcasting Company - ECPv5.3.2//NONSGML v1.0//EN
CALSCALE:GREGORIAN
METHOD:PUBLISH
X-WR-CALNAME:Tennesse Internet Broadcasting Company
X-ORIGINAL-URL:https://www.tnibc.com
X-WR-CALDESC:Events for Tennesse Internet Broadcasting Company
BEGIN:VTIMEZONE
TZID:America/Chicago
BEGIN:DAYLIGHT
TZOFFSETFROM:-0600
TZOFFSETTO:-0500
TZNAME:CDT
DTSTART:20150308T080000
END:DAYLIGHT
BEGIN:STANDARD
TZOFFSETFROM:-0500
TZOFFSETTO:-0600
TZNAME:CST
DTSTART:20151101T070000
END:STANDARD
END:VTIMEZONE
BEGIN:VEVENT
DTSTART;TZID=America/Chicago:20151030T190000
DTEND;TZID=America/Chicago:20151030T220000
DTSTAMP:20260420T132431
CREATED:20150806T152125Z
LAST-MODIFIED:20151014T030118Z
UID:366-1446231600-1446242400@www.tnibc.com
SUMMARY:October 30 - West Carroll AT South Fulton
DESCRIPTION:It’s down to our last regular season game for 2015\,\nand it takes us on our longest road trip of the season\nto take on South Fulton. \nHometown Grocery & Deli pregame show starts at 7pm\nKickoff at 7:30pm \nLISTEN LIVE to all the play-by-play action on the War Eagle Radio Network at\nwww.WarEagleRadio.com or on the Mixlr app for your smartphone!! \nWest Carroll High School Football\n“Beyond the Reach of FM Radio”
URL:https://www.tnibc.com/event/october-30-at-south-fulton/
LOCATION:South Fulton High School\, 1302 John C Jones Pkwy\, South Fulton\, TN\, 38257\, United States
CATEGORIES:LISTEN LIVE!!!!!!!!!!
END:VEVENT
END:VCALENDAR