BEGIN:VCALENDAR
VERSION:2.0
PRODID:-//Tennesse Internet Broadcasting Company - ECPv5.3.2//NONSGML v1.0//EN
CALSCALE:GREGORIAN
METHOD:PUBLISH
X-WR-CALNAME:Tennesse Internet Broadcasting Company
X-ORIGINAL-URL:https://www.tnibc.com
X-WR-CALDESC:Events for Tennesse Internet Broadcasting Company
BEGIN:VTIMEZONE
TZID:America/Chicago
BEGIN:DAYLIGHT
TZOFFSETFROM:-0600
TZOFFSETTO:-0500
TZNAME:CDT
DTSTART:20150308T080000
END:DAYLIGHT
BEGIN:STANDARD
TZOFFSETFROM:-0500
TZOFFSETTO:-0600
TZNAME:CST
DTSTART:20151101T070000
END:STANDARD
END:VTIMEZONE
BEGIN:VEVENT
DTSTART;TZID=America/Chicago:20151009T190000
DTEND;TZID=America/Chicago:20151009T220000
DTSTAMP:20260420T045550
CREATED:20150806T150619Z
LAST-MODIFIED:20150806T150619Z
UID:362-1444417200-1444428000@www.tnibc.com
SUMMARY:October 9 - vs. Union City
DESCRIPTION:Back to the Eagle’s Nest we go on Oct. 9th as\nWest Carroll hosts the Union City Golden Tornadoes. \nHometown Grocery & Deli pregame show starts at 7pm\nKickoff at 7:30pm \nLISTEN LIVE to all the play-by-play action on the War Eagle Radio Network at\nwww.WarEagleRadio.com or on the Mixlr app for your smartphone!! \nWest Carroll High School Football\n“Beyond the Reach of FM Radio”
URL:https://www.tnibc.com/event/october-9-vs-union-city/
LOCATION:West Carroll High School\, 1415 Hwy 77\, Atwood\, TN\, 38220\, United States
CATEGORIES:LISTEN LIVE!!!!!!!!!!
END:VEVENT
END:VCALENDAR