BEGIN:VCALENDAR
VERSION:2.0
PRODID:-//Tennesse Internet Broadcasting Company - ECPv5.3.2//NONSGML v1.0//EN
CALSCALE:GREGORIAN
METHOD:PUBLISH
X-WR-CALNAME:Tennesse Internet Broadcasting Company
X-ORIGINAL-URL:https://www.tnibc.com
X-WR-CALDESC:Events for Tennesse Internet Broadcasting Company
BEGIN:VTIMEZONE
TZID:America/Chicago
BEGIN:DAYLIGHT
TZOFFSETFROM:-0600
TZOFFSETTO:-0500
TZNAME:CDT
DTSTART:20160313T080000
END:DAYLIGHT
BEGIN:STANDARD
TZOFFSETFROM:-0500
TZOFFSETTO:-0600
TZNAME:CST
DTSTART:20161106T070000
END:STANDARD
END:VTIMEZONE
BEGIN:VEVENT
DTSTART;TZID=America/Chicago:20160226T183000
DTEND;TZID=America/Chicago:20160226T210000
DTSTAMP:20260421T054013
CREATED:20160221T023551Z
LAST-MODIFIED:20160224T034834Z
UID:634-1456511400-1456520400@www.tnibc.com
SUMMARY:Region 7A Quarterfinals
DESCRIPTION:Region 7A Tournament Time\nWAR EAGLE RADIO NETWORK! \nLISTEN LIVE!\nBurgers & More pregame 6:30pm\nTip-off at 7pm \nThe Lady War Eagles finished 4th in District 13-A and will head to Gibson County for Region 7A Quarterfinals action!! \n3 Ways to listen\n1. www.WarEagleRadio.com\n2. Mixlr Smartphone App\n3. Audio Now call 1-605-475-5867
URL:https://www.tnibc.com/event/region-7a-quarterfinals-tonight/
LOCATION:Gibson Co. High School\, 130 Trenton Hwy\, Dyer\, TN\, 38330\, United States
CATEGORIES:LISTEN LIVE!!!!!!!!!!
END:VEVENT
END:VCALENDAR