BEGIN:VCALENDAR
VERSION:2.0
PRODID:-//Tennesse Internet Broadcasting Company - ECPv5.3.2//NONSGML v1.0//EN
CALSCALE:GREGORIAN
METHOD:PUBLISH
X-WR-CALNAME:Tennesse Internet Broadcasting Company
X-ORIGINAL-URL:https://www.tnibc.com
X-WR-CALDESC:Events for Tennesse Internet Broadcasting Company
BEGIN:VTIMEZONE
TZID:America/Chicago
BEGIN:DAYLIGHT
TZOFFSETFROM:-0600
TZOFFSETTO:-0500
TZNAME:CDT
DTSTART:20150308T080000
END:DAYLIGHT
BEGIN:STANDARD
TZOFFSETFROM:-0500
TZOFFSETTO:-0600
TZNAME:CST
DTSTART:20151101T070000
END:STANDARD
END:VTIMEZONE
BEGIN:VEVENT
DTSTART;TZID=America/Chicago:20150904T190000
DTEND;TZID=America/Chicago:20150904T220000
DTSTAMP:20260420T080548
CREATED:20150806T145105Z
LAST-MODIFIED:20150806T145105Z
UID:357-1441393200-1441404000@www.tnibc.com
SUMMARY:September 4 - AT Dresden
DESCRIPTION:West Carroll hits the road for the 2nd week in a row Sept. 4th\nto battle the Dresden Lions AT Dresden High School. \nHometown Grocery & Deli pregame show starts at 7pm\nKickoff at 7:30pm \nLISTEN LIVE to all the play-by-play action on the War Eagle Radio Network at\nwww.WarEagleRadio.com or on the Mixlr app for your smartphone!! \nWest Carroll High School Football\n“Beyond the Reach of FM Radio”
URL:https://www.tnibc.com/event/september-4-at-dresden/
LOCATION:Dresden High School\, 7150 Tennessee 22\, Dresden\, TN\, 38225\, United States
CATEGORIES:LISTEN LIVE!!!!!!!!!!
END:VEVENT
END:VCALENDAR