BEGIN:VCALENDAR
VERSION:2.0
PRODID:-//Tennesse Internet Broadcasting Company - ECPv5.3.2//NONSGML v1.0//EN
CALSCALE:GREGORIAN
METHOD:PUBLISH
X-WR-CALNAME:Tennesse Internet Broadcasting Company
X-ORIGINAL-URL:https://www.tnibc.com
X-WR-CALDESC:Events for Tennesse Internet Broadcasting Company
BEGIN:VTIMEZONE
TZID:America/Chicago
BEGIN:DAYLIGHT
TZOFFSETFROM:-0600
TZOFFSETTO:-0500
TZNAME:CDT
DTSTART:20200308T080000
END:DAYLIGHT
BEGIN:STANDARD
TZOFFSETFROM:-0500
TZOFFSETTO:-0600
TZNAME:CST
DTSTART:20201101T070000
END:STANDARD
END:VTIMEZONE
BEGIN:VEVENT
DTSTART;TZID=America/Chicago:20200309T184000
DTEND;TZID=America/Chicago:20200309T203000
DTSTAMP:20260420T094214
CREATED:20200306T023852Z
LAST-MODIFIED:20200306T023852Z
UID:1637-1583779200-1583785800@www.tnibc.com
SUMMARY:WC @ East Robertson - Sub-State
DESCRIPTION:WEST CARROLL WAR EAGLES ARE HEADED TO SUB-STATE \nThe West Carroll War Eagles will take to the road in their first Sub-State Appearance since 1996 as the head to East Robertson High School to take on the Indians!! \nWHEN: MONDAY MARCH 9TH\nWHERE: EAST ROBERTSON HIGH SCHOOL\nWHAT: SUB-STATE\nWHO: BOYS 7PM \nLISTEN LIVE!!\nSub-State\nSouthern Chiropractic Pregame: 6:40pm.\nTipoff: 7pm. \n3 Ways to Listen LIVE\n1. www.WarEagleRadio.com\n2. MixLR Smartphone App\n3. Audio Now Call: 1-605-475-5867
URL:https://www.tnibc.com/event/wc-east-robertson-sub-state/
LOCATION:East Robertson High School\, 158 Kilgore Trce\, Cross Plains\, TN\, 37049\, United States
CATEGORIES:LISTEN LIVE!!!!!!!!!!
END:VEVENT
END:VCALENDAR