BEGIN:VCALENDAR
VERSION:2.0
PRODID:-//Tennesse Internet Broadcasting Company - ECPv5.3.2//NONSGML v1.0//EN
CALSCALE:GREGORIAN
METHOD:PUBLISH
X-WR-CALNAME:Tennesse Internet Broadcasting Company
X-ORIGINAL-URL:https://www.tnibc.com
X-WR-CALDESC:Events for Tennesse Internet Broadcasting Company
BEGIN:VTIMEZONE
TZID:America/Chicago
BEGIN:DAYLIGHT
TZOFFSETFROM:-0600
TZOFFSETTO:-0500
TZNAME:CDT
DTSTART:20200308T080000
END:DAYLIGHT
BEGIN:STANDARD
TZOFFSETFROM:-0500
TZOFFSETTO:-0600
TZNAME:CST
DTSTART:20201101T070000
END:STANDARD
END:VTIMEZONE
BEGIN:VEVENT
DTSTART;TZID=America/Chicago:20200213T174000
DTEND;TZID=America/Chicago:20200213T210000
DTSTAMP:20260420T231743
CREATED:20191126T035601Z
LAST-MODIFIED:20191126T035601Z
UID:1596-1581615600-1581627600@www.tnibc.com
SUMMARY:WCHS at Bradford
DESCRIPTION:Southern Chiropractic Pregame Show: 5:40pm\nTipoff: 6pm\nListen Live\n3 Ways to Listen\n1. www.WarEagleRadio.com\n2. MixLR Smartphone App\n3. Audio Now Call: 1-605-475-5867
URL:https://www.tnibc.com/event/wchs-at-bradford/
LOCATION:Bradford High School\, 136 Hwy 45 S\, Bradford\, TN\, 38316\, United States
CATEGORIES:LISTEN LIVE!!!!!!!!!!
END:VEVENT
END:VCALENDAR