BEGIN:VCALENDAR
VERSION:2.0
PRODID:-//Tennesse Internet Broadcasting Company - ECPv5.3.2//NONSGML v1.0//EN
CALSCALE:GREGORIAN
METHOD:PUBLISH
X-WR-CALNAME:Tennesse Internet Broadcasting Company
X-ORIGINAL-URL:https://www.tnibc.com
X-WR-CALDESC:Events for Tennesse Internet Broadcasting Company
BEGIN:VTIMEZONE
TZID:America/Chicago
BEGIN:DAYLIGHT
TZOFFSETFROM:-0600
TZOFFSETTO:-0500
TZNAME:CDT
DTSTART:20180311T080000
END:DAYLIGHT
BEGIN:STANDARD
TZOFFSETFROM:-0500
TZOFFSETTO:-0600
TZNAME:CST
DTSTART:20181104T070000
END:STANDARD
END:VTIMEZONE
BEGIN:VEVENT
DTSTART;TZID=America/Chicago:20181130T180000
DTEND;TZID=America/Chicago:20181130T210000
DTSTAMP:20260420T155938
CREATED:20181108T045236Z
LAST-MODIFIED:20181108T045236Z
UID:1426-1543600800-1543611600@www.tnibc.com
SUMMARY:West Carroll AT Dresden
DESCRIPTION:West Carroll War Eagles & Lady War Eagles Basketball \nListen Live \n3 Ways to Listen\n1. www.WarEagleRadio.com\n2. MixLR Smartphone App\n3. Audio Now Call: 1-605-475-5867 \n“Beyond the Reach of FM Radio”
URL:https://www.tnibc.com/event/west-carroll-at-dresden-3/
LOCATION:Dresden High School\, 7150 Tennessee 22\, Dresden\, TN\, 38225\, United States
CATEGORIES:LISTEN LIVE!!!!!!!!!!
END:VEVENT
END:VCALENDAR