BEGIN:VCALENDAR
VERSION:2.0
PRODID:-//Tennesse Internet Broadcasting Company - ECPv5.3.2//NONSGML v1.0//EN
CALSCALE:GREGORIAN
METHOD:PUBLISH
X-WR-CALNAME:Tennesse Internet Broadcasting Company
X-ORIGINAL-URL:https://www.tnibc.com
X-WR-CALDESC:Events for Tennesse Internet Broadcasting Company
BEGIN:VTIMEZONE
TZID:America/Chicago
BEGIN:DAYLIGHT
TZOFFSETFROM:-0600
TZOFFSETTO:-0500
TZNAME:CDT
DTSTART:20200308T080000
END:DAYLIGHT
BEGIN:STANDARD
TZOFFSETFROM:-0500
TZOFFSETTO:-0600
TZNAME:CST
DTSTART:20201101T070000
END:STANDARD
END:VTIMEZONE
BEGIN:VEVENT
DTSTART;TZID=America/Chicago:20200911T183000
DTEND;TZID=America/Chicago:20200911T210000
DTSTAMP:20260420T052122
CREATED:20200903T011352Z
LAST-MODIFIED:20200903T011352Z
UID:1675-1599849000-1599858000@www.tnibc.com
SUMMARY:West Carroll AT Dresden
DESCRIPTION:West Carroll AT Dresden**\nHometown Grocery & Deli Pregame Show: 6:30pm\nKickoff: 7pm\n3 Ways to Listen LIVE\n1. www.WarEagleRadio.com\n2. MixLR Smartphone App\n3. Audio Now Call: 1-605-475-5867
URL:https://www.tnibc.com/event/west-carroll-at-dresden-4/
LOCATION:Dresden High School\, 7150 Tennessee 22\, Dresden\, TN\, 38225\, United States
CATEGORIES:LISTEN LIVE!!!!!!!!!!
END:VEVENT
END:VCALENDAR