BEGIN:VCALENDAR
VERSION:2.0
PRODID:-//Tennesse Internet Broadcasting Company - ECPv5.3.2//NONSGML v1.0//EN
CALSCALE:GREGORIAN
METHOD:PUBLISH
X-WR-CALNAME:Tennesse Internet Broadcasting Company
X-ORIGINAL-URL:https://www.tnibc.com
X-WR-CALDESC:Events for Tennesse Internet Broadcasting Company
BEGIN:VTIMEZONE
TZID:America/Chicago
BEGIN:DAYLIGHT
TZOFFSETFROM:-0600
TZOFFSETTO:-0500
TZNAME:CDT
DTSTART:20150308T080000
END:DAYLIGHT
BEGIN:STANDARD
TZOFFSETFROM:-0500
TZOFFSETTO:-0600
TZNAME:CST
DTSTART:20151101T070000
END:STANDARD
END:VTIMEZONE
BEGIN:VEVENT
DTSTART;TZID=America/Chicago:20151217T173000
DTEND;TZID=America/Chicago:20151217T210000
DTSTAMP:20260421T073201
CREATED:20151117T193828Z
LAST-MODIFIED:20151117T193828Z
UID:525-1450373400-1450386000@www.tnibc.com
SUMMARY:West Carroll AT Dresden
DESCRIPTION:Your West Carroll War Eagles & Lady War Eagles take to the road as they play in one of the toughest gyms around\, the Lions Den\, to take on the Dresden Lions & Lady Lions \nBurgers & More Pregame Show: 5:30pm\nTip-Off: 6pm \n3 WAYS TO LISTEN\n1. www.WarEagleRadio.com\n2. Mixlr Smartphone App\n3. Audio Now Call 1-605-475-5867
URL:https://www.tnibc.com/event/west-carroll-at-dresden/
LOCATION:Dresden High School\, 7150 Tennessee 22\, Dresden\, TN\, 38225\, United States
CATEGORIES:LISTEN LIVE!!!!!!!!!!
END:VEVENT
END:VCALENDAR