BEGIN:VCALENDAR
VERSION:2.0
PRODID:-//Tennesse Internet Broadcasting Company - ECPv5.3.2//NONSGML v1.0//EN
CALSCALE:GREGORIAN
METHOD:PUBLISH
X-WR-CALNAME:Tennesse Internet Broadcasting Company
X-ORIGINAL-URL:https://www.tnibc.com
X-WR-CALDESC:Events for Tennesse Internet Broadcasting Company
BEGIN:VTIMEZONE
TZID:America/Chicago
BEGIN:DAYLIGHT
TZOFFSETFROM:-0600
TZOFFSETTO:-0500
TZNAME:CDT
DTSTART:20180311T080000
END:DAYLIGHT
BEGIN:STANDARD
TZOFFSETFROM:-0500
TZOFFSETTO:-0600
TZNAME:CST
DTSTART:20181104T070000
END:STANDARD
END:VTIMEZONE
BEGIN:VEVENT
DTSTART;TZID=America/Chicago:20180914T183000
DTEND;TZID=America/Chicago:20180914T213000
DTSTAMP:20260420T033649
CREATED:20180802T000448Z
LAST-MODIFIED:20180802T002050Z
UID:1365-1536949800-1536960600@www.tnibc.com
SUMMARY:West Carroll AT Gleason
DESCRIPTION:West Carroll War Eagles will travel to Gleason to take on the Bulldogs. \nHometown Grocery & Deli pregame show: 6:30pm\nKickoff: 7pm
URL:https://www.tnibc.com/event/west-carroll-at-gleason-2/
LOCATION:Gleason High School\, 92-99 State Championship Rd\, Gleason\, TN\, 38229\, United States
CATEGORIES:LISTEN LIVE!!!!!!!!!!
END:VEVENT
END:VCALENDAR