BEGIN:VCALENDAR
VERSION:2.0
PRODID:-//Tennesse Internet Broadcasting Company - ECPv5.3.2//NONSGML v1.0//EN
CALSCALE:GREGORIAN
METHOD:PUBLISH
X-WR-CALNAME:Tennesse Internet Broadcasting Company
X-ORIGINAL-URL:https://www.tnibc.com
X-WR-CALDESC:Events for Tennesse Internet Broadcasting Company
BEGIN:VTIMEZONE
TZID:America/Chicago
BEGIN:DAYLIGHT
TZOFFSETFROM:-0600
TZOFFSETTO:-0500
TZNAME:CDT
DTSTART:20150308T080000
END:DAYLIGHT
BEGIN:STANDARD
TZOFFSETFROM:-0500
TZOFFSETTO:-0600
TZNAME:CST
DTSTART:20151101T070000
END:STANDARD
END:VTIMEZONE
BEGIN:VEVENT
DTSTART;TZID=America/Chicago:20150828T080000
DTEND;TZID=America/Chicago:20150828T170000
DTSTAMP:20260420T131104
CREATED:20150828T234205Z
LAST-MODIFIED:20150828T234205Z
UID:396-1440748800-1440781200@www.tnibc.com
SUMMARY:West Carroll AT McKenzie Football
DESCRIPTION:LISTEN LIVE TONIGHT!!!! \nWest Carroll War Eagles take to the road to battle the McKenzie Rebels with full on football action!! \nHometown Grocery & Deli Pregame Show starts at 7pm\nKickoff at 7:30 \nAdam Welch\, Jonathan Gowan & Don Reed bring you\nall the play by play action with 3 ways to listen!!\n1. Online at www.WarEagleRadio.com\n2. By Smartphone via the Mixlr app\n3. By phone at 1-605-475-5867
URL:https://www.tnibc.com/event/west-carroll-at-mckenzie-football/
END:VEVENT
END:VCALENDAR