BEGIN:VCALENDAR
VERSION:2.0
PRODID:-//Tennesse Internet Broadcasting Company - ECPv5.3.2//NONSGML v1.0//EN
CALSCALE:GREGORIAN
METHOD:PUBLISH
X-WR-CALNAME:Tennesse Internet Broadcasting Company
X-ORIGINAL-URL:https://www.tnibc.com
X-WR-CALDESC:Events for Tennesse Internet Broadcasting Company
BEGIN:VTIMEZONE
TZID:America/Chicago
BEGIN:DAYLIGHT
TZOFFSETFROM:-0600
TZOFFSETTO:-0500
TZNAME:CDT
DTSTART:20200308T080000
END:DAYLIGHT
BEGIN:STANDARD
TZOFFSETFROM:-0500
TZOFFSETTO:-0600
TZNAME:CST
DTSTART:20201101T070000
END:STANDARD
END:VTIMEZONE
BEGIN:VEVENT
DTSTART;TZID=America/Chicago:20201204T174000
DTEND;TZID=America/Chicago:20201204T203000
DTSTAMP:20260420T143650
CREATED:20201113T165105Z
LAST-MODIFIED:20201113T165105Z
UID:1754-1607103600-1607113800@www.tnibc.com
SUMMARY:West Carroll AT Scotts Hill
DESCRIPTION:War Eagles & Lady War Eagles Basketball\nLISTEN LIVE!!!!\nSouthern Chiropractic Pregame Show: 5:40pm\nKickoff: 6pm\n3 Ways to Listen LIVE\n1. www.WarEagleRadio.com\n2. MixLR Smartphone App\n3. Audio Now Call: 1-605-475-5867
URL:https://www.tnibc.com/event/west-carroll-at-scotts-hill/
LOCATION:Scotts Hill High School\, 7871 TN-100\, Reagan\, TN\, 38368\, United States
CATEGORIES:LISTEN LIVE!!!!!!!!!!
END:VEVENT
END:VCALENDAR