BEGIN:VCALENDAR
VERSION:2.0
PRODID:-//Tennesse Internet Broadcasting Company - ECPv5.3.2//NONSGML v1.0//EN
CALSCALE:GREGORIAN
METHOD:PUBLISH
X-WR-CALNAME:Tennesse Internet Broadcasting Company
X-ORIGINAL-URL:https://www.tnibc.com
X-WR-CALDESC:Events for Tennesse Internet Broadcasting Company
BEGIN:VTIMEZONE
TZID:America/Chicago
BEGIN:DAYLIGHT
TZOFFSETFROM:-0600
TZOFFSETTO:-0500
TZNAME:CDT
DTSTART:20150308T080000
END:DAYLIGHT
BEGIN:STANDARD
TZOFFSETFROM:-0500
TZOFFSETTO:-0600
TZNAME:CST
DTSTART:20151101T070000
END:STANDARD
END:VTIMEZONE
BEGIN:VEVENT
DTSTART;TZID=America/Chicago:20150120T174500
DTEND;TZID=America/Chicago:20150120T210000
DTSTAMP:20260423T223733
CREATED:20141105T022713Z
LAST-MODIFIED:20141105T022713Z
UID:66-1421775900-1421787600@www.tnibc.com
SUMMARY:West Carroll AT Dreden
DESCRIPTION:
URL:https://www.tnibc.com/event/west-carroll-dreden/
LOCATION:Dresden High School\, 7150 Tennessee 22\, Dresden\, TN\, 38225\, United States
END:VEVENT
END:VCALENDAR