BEGIN:VCALENDAR
VERSION:2.0
PRODID:-//Tennesse Internet Broadcasting Company - ECPv5.3.2//NONSGML v1.0//EN
CALSCALE:GREGORIAN
METHOD:PUBLISH
X-WR-CALNAME:Tennesse Internet Broadcasting Company
X-ORIGINAL-URL:https://www.tnibc.com
X-WR-CALDESC:Events for Tennesse Internet Broadcasting Company
BEGIN:VTIMEZONE
TZID:America/Chicago
BEGIN:DAYLIGHT
TZOFFSETFROM:-0600
TZOFFSETTO:-0500
TZNAME:CDT
DTSTART:20170312T080000
END:DAYLIGHT
BEGIN:STANDARD
TZOFFSETFROM:-0500
TZOFFSETTO:-0600
TZNAME:CST
DTSTART:20171105T070000
END:STANDARD
END:VTIMEZONE
BEGIN:VEVENT
DTSTART;TZID=America/Chicago:20171130T174000
DTEND;TZID=America/Chicago:20171130T210000
DTSTAMP:20260420T205307
CREATED:20161111T040135Z
LAST-MODIFIED:20171009T021026Z
UID:917-1512063600-1512075600@www.tnibc.com
SUMMARY:West Carroll AT Trinity Christian Academy
DESCRIPTION:The War Eagles & Lady War Eagles take to the road for the 1st time in 2017 to take on the TCA Lions & Lady Lions!! \nThrive Pregame Show: 5:40pm\nTip-Off: 6pm \n3 WAYS TO LISTEN\n1. www.WarEagleRadio.com\n2. Mixlr Smartphone App (search War Eagle Radio Network)\n3. Audio Now Call 1-605-475-5867 \n 
URL:https://www.tnibc.com/event/west-carroll-gleason-2/
LOCATION:Trinity Christian Academy\, 10 Windy City Rd\, Jackson\, TN\, 38305\, United States
CATEGORIES:LISTEN LIVE!!!!!!!!!!
END:VEVENT
END:VCALENDAR