BEGIN:VCALENDAR
VERSION:2.0
PRODID:-//Tennesse Internet Broadcasting Company - ECPv5.3.2//NONSGML v1.0//EN
CALSCALE:GREGORIAN
METHOD:PUBLISH
X-WR-CALNAME:Tennesse Internet Broadcasting Company
X-ORIGINAL-URL:https://www.tnibc.com
X-WR-CALDESC:Events for Tennesse Internet Broadcasting Company
BEGIN:VTIMEZONE
TZID:America/Chicago
BEGIN:DAYLIGHT
TZOFFSETFROM:-0600
TZOFFSETTO:-0500
TZNAME:CDT
DTSTART:20210314T080000
END:DAYLIGHT
BEGIN:STANDARD
TZOFFSETFROM:-0500
TZOFFSETTO:-0600
TZNAME:CST
DTSTART:20211107T070000
END:STANDARD
END:VTIMEZONE
BEGIN:VEVENT
DTSTART;TZID=America/Chicago:20210813T183000
DTEND;TZID=America/Chicago:20210813T203000
DTSTAMP:20260422T155549
CREATED:20210805T204501Z
LAST-MODIFIED:20210805T212040Z
UID:2025-1628879400-1628886600@www.tnibc.com
SUMMARY:West Carroll Jamboree
DESCRIPTION:August 13\nDresden VS. West Carroll – AT Bethel University\nHometown Grocery & Deli Pregame: 6:15pm\nKickoff: 6:45pm\n4 Ways to Listen/Watch LIVE\n1. www.WarEagleRadio.com\n2. MixLR Smartphone App\n3. Audio Now Call: 1-605-475-5867\n4. www.YouTube.com/WarEagleRadioNetwork 
URL:https://www.tnibc.com/event/west-carroll-jamboree/
LOCATION:Bethel University\, Wildcat Lane\, McKenzie\, TN\, 38201\, United States
CATEGORIES:LISTEN LIVE!!!!!!!!!!,WATCH LIVE!!!!
END:VEVENT
END:VCALENDAR