BEGIN:VCALENDAR
VERSION:2.0
PRODID:-//Tennesse Internet Broadcasting Company - ECPv5.3.2//NONSGML v1.0//EN
CALSCALE:GREGORIAN
METHOD:PUBLISH
X-WR-CALNAME:Tennesse Internet Broadcasting Company
X-ORIGINAL-URL:https://www.tnibc.com
X-WR-CALDESC:Events for Tennesse Internet Broadcasting Company
BEGIN:VTIMEZONE
TZID:America/Chicago
BEGIN:DAYLIGHT
TZOFFSETFROM:-0600
TZOFFSETTO:-0500
TZNAME:CDT
DTSTART:20170312T080000
END:DAYLIGHT
BEGIN:STANDARD
TZOFFSETFROM:-0500
TZOFFSETTO:-0600
TZNAME:CST
DTSTART:20171105T070000
END:STANDARD
END:VTIMEZONE
BEGIN:VEVENT
DTSTART;TZID=America/Chicago:20171209T174000
DTEND;TZID=America/Chicago:20171209T210000
DTSTAMP:20260421T034058
CREATED:20161111T033907Z
LAST-MODIFIED:20171009T022402Z
UID:906-1512841200-1512853200@www.tnibc.com
SUMMARY:West Carroll AT Milan
DESCRIPTION:The War Eagles & Lady War Eagles take to the road\, just over in the next county\, playing the Milan Bulldogs & Lady Bulldogs!! \nThrive Pregame Show: 5:40pm\nTip-Off: 6pm \n3 WAYS TO LISTEN\n1. www.WarEagleRadio.com\n2. Mixlr Smartphone App (search War Eagle Radio Network)\n3. Audio Now Call 1-605-475-5867 \n 
URL:https://www.tnibc.com/event/west-carroll-milan-2/
LOCATION:Milan High School\, 7060 E Van Hook St\, Milan\, TN\,  38358\, United States
CATEGORIES:LISTEN LIVE!!!!!!!!!!
END:VEVENT
END:VCALENDAR