BEGIN:VCALENDAR
VERSION:2.0
PRODID:-//Tennesse Internet Broadcasting Company - ECPv5.3.2//NONSGML v1.0//EN
CALSCALE:GREGORIAN
METHOD:PUBLISH
X-WR-CALNAME:Tennesse Internet Broadcasting Company
X-ORIGINAL-URL:https://www.tnibc.com
X-WR-CALDESC:Events for Tennesse Internet Broadcasting Company
BEGIN:VTIMEZONE
TZID:America/Chicago
BEGIN:DAYLIGHT
TZOFFSETFROM:-0600
TZOFFSETTO:-0500
TZNAME:CDT
DTSTART:20170312T080000
END:DAYLIGHT
BEGIN:STANDARD
TZOFFSETFROM:-0500
TZOFFSETTO:-0600
TZNAME:CST
DTSTART:20171105T070000
END:STANDARD
END:VTIMEZONE
BEGIN:VEVENT
DTSTART;TZID=America/Chicago:20170922T183000
DTEND;TZID=America/Chicago:20170922T220000
DTSTAMP:20260420T031835
CREATED:20160816T220420Z
LAST-MODIFIED:20170810T020113Z
UID:724-1506105000-1506117600@www.tnibc.com
SUMMARY:West Carroll AT Gibson County
DESCRIPTION:West Carroll War Eagles take to the road for their first game of the season outside of Carroll County\, just over in the next county\, to take on the Gibson County Pioneers to start the 2nd half of this 2017 High School Football Season!! \n  \nLISTEN LIVE!!!\nHometown Grocery & Deli Pregame Show: 6:30pm\nKickoff: 7pm \n\n3 ways to listen LIVE\n1. www.WarEagleRadio.com\n2. Mixlr Smartphone App (search War Eagle Radio Network)\n3. Audio Now call 1-605-475-5868 \nAs always every game can be replayed anytime with the broadcast replay page at www.WarEagleRadio.com & www.TNIBC.com
URL:https://www.tnibc.com/event/west-carroll-trenton-peabody/
LOCATION:Gibson Co. High School\, 130 Trenton Hwy\, Dyer\, TN\, 38330\, United States
CATEGORIES:LISTEN LIVE!!!!!!!!!!
END:VEVENT
END:VCALENDAR