BEGIN:VCALENDAR
VERSION:2.0
PRODID:-//Tennesse Internet Broadcasting Company - ECPv5.3.2//NONSGML v1.0//EN
CALSCALE:GREGORIAN
METHOD:PUBLISH
X-WR-CALNAME:Tennesse Internet Broadcasting Company
X-ORIGINAL-URL:https://www.tnibc.com
X-WR-CALDESC:Events for Tennesse Internet Broadcasting Company
BEGIN:VTIMEZONE
TZID:America/Chicago
BEGIN:DAYLIGHT
TZOFFSETFROM:-0600
TZOFFSETTO:-0500
TZNAME:CDT
DTSTART:20150308T080000
END:DAYLIGHT
BEGIN:STANDARD
TZOFFSETFROM:-0500
TZOFFSETTO:-0600
TZNAME:CST
DTSTART:20151101T070000
END:STANDARD
END:VTIMEZONE
BEGIN:VEVENT
DTSTART;TZID=America/Chicago:20150202T174500
DTEND;TZID=America/Chicago:20150202T210000
DTSTAMP:20260423T123208
CREATED:20141105T023831Z
LAST-MODIFIED:20141105T023831Z
UID:77-1422899100-1422910800@www.tnibc.com
SUMMARY:West Carroll AT Trenton
DESCRIPTION:
URL:https://www.tnibc.com/event/west-carroll-trenton/
LOCATION:Peabody High School\, 2069 Highway 45 Bypass\, Trenton\, TN\, 38382\, United States
END:VEVENT
END:VCALENDAR