BEGIN:VCALENDAR
VERSION:2.0
PRODID:-//Tennesse Internet Broadcasting Company - ECPv5.3.2//NONSGML v1.0//EN
CALSCALE:GREGORIAN
METHOD:PUBLISH
X-WR-CALNAME:Tennesse Internet Broadcasting Company
X-ORIGINAL-URL:https://www.tnibc.com
X-WR-CALDESC:Events for Tennesse Internet Broadcasting Company
BEGIN:VTIMEZONE
TZID:America/Chicago
BEGIN:DAYLIGHT
TZOFFSETFROM:-0600
TZOFFSETTO:-0500
TZNAME:CDT
DTSTART:20190310T080000
END:DAYLIGHT
BEGIN:STANDARD
TZOFFSETFROM:-0500
TZOFFSETTO:-0600
TZNAME:CST
DTSTART:20191103T070000
END:STANDARD
END:VTIMEZONE
BEGIN:VEVENT
DTSTART;TZID=America/Chicago:20190209T133000
DTEND;TZID=America/Chicago:20190209T150000
DTSTAMP:20260421T165907
CREATED:20190207T003327Z
LAST-MODIFIED:20190207T005843Z
UID:1481-1549719000-1549724400@www.tnibc.com
SUMMARY:West Carroll vs. Bruceton - Girls
DESCRIPTION:District 11-A Basketball Tournament time is here!!! \n  \nThe #4 West Carroll Lady War Eagles will take on the #5 Hollow-Rock/Bruceton Central Lady Tigers in Round 1 Game 2 of District Play!! \nSouthern Chiropractic Pregame Show: 1:15pm\nTipoff: 1:30pm \nListen Live \n3 Ways to Listen\n1. www.TNIBC.com\n2. MixLR Smartphone App\n3. Audio Now Call: 1-605-475-5867 \n“Broadcasting Beyond the Reach of FM Radio”
URL:https://www.tnibc.com/event/west-carroll-vs-bruceton-girls-2/
LOCATION:Bethel University\, Wildcat Lane\, McKenzie\, TN\, 38201\, United States
CATEGORIES:LISTEN LIVE!!!!!!!!!!
END:VEVENT
END:VCALENDAR